BEGIN:VCALENDAR
VERSION:2.0
PRODID:-//Femix&#039;Sports - ECPv6.5.0//NONSGML v1.0//EN
CALSCALE:GREGORIAN
METHOD:PUBLISH
X-WR-CALNAME:Femix&#039;Sports
X-ORIGINAL-URL:https://www.femixsports.fr
X-WR-CALDESC:évènements pour Femix&#039;Sports
REFRESH-INTERVAL;VALUE=DURATION:PT1H
X-Robots-Tag:noindex
X-PUBLISHED-TTL:PT1H
BEGIN:VTIMEZONE
TZID:Europe/Paris
BEGIN:DAYLIGHT
TZOFFSETFROM:+0100
TZOFFSETTO:+0200
TZNAME:CEST
DTSTART:20240331T010000
END:DAYLIGHT
BEGIN:STANDARD
TZOFFSETFROM:+0200
TZOFFSETTO:+0100
TZNAME:CET
DTSTART:20241027T010000
END:STANDARD
END:VTIMEZONE
BEGIN:VEVENT
DTSTART;VALUE=DATE:20240122
DTEND;VALUE=DATE:20240123
DTSTAMP:20260421T015157
CREATED:20240122T104154Z
LAST-MODIFIED:20240122T104154Z
UID:32398-1705881600-1705967999@www.femixsports.fr
SUMMARY:Intervention de Emmanuelle Ducrot à la Fédération Française de Canoë-Kayak
DESCRIPTION:A cette occasion et en tant que Directrice Générale de l’association Femix’Sports\, Emmanuelle Ducrot tiendra une conférence sur la place des femmes dans le sport vue sous différents angles avec une approche chiffrée.
URL:https://www.femixsports.fr/event/intervention-de-emmanuelle-ducrot-a-la-federation-francaise-de-canoe-kayak/
CATEGORIES:Intervention
ATTACH;FMTTYPE=image/png:https://www.femixsports.fr/wp-content/uploads/2024/01/bannieres-site-web.png
END:VEVENT
END:VCALENDAR