BEGIN:VCALENDAR
VERSION:2.0
PRODID:-//Femix&#039;Sports - ECPv6.5.0//NONSGML v1.0//EN
CALSCALE:GREGORIAN
METHOD:PUBLISH
X-WR-CALNAME:Femix&#039;Sports
X-ORIGINAL-URL:https://www.femixsports.fr
X-WR-CALDESC:évènements pour Femix&#039;Sports
REFRESH-INTERVAL;VALUE=DURATION:PT1H
X-Robots-Tag:noindex
X-PUBLISHED-TTL:PT1H
BEGIN:VTIMEZONE
TZID:Europe/Paris
BEGIN:DAYLIGHT
TZOFFSETFROM:+0100
TZOFFSETTO:+0200
TZNAME:CEST
DTSTART:20240331T010000
END:DAYLIGHT
BEGIN:STANDARD
TZOFFSETFROM:+0200
TZOFFSETTO:+0100
TZNAME:CET
DTSTART:20241027T010000
END:STANDARD
END:VTIMEZONE
BEGIN:VEVENT
DTSTART;VALUE=DATE:20240120
DTEND;VALUE=DATE:20240122
DTSTAMP:20260421T051738
CREATED:20231215T191032Z
LAST-MODIFIED:20231215T191032Z
UID:32293-1705708800-1705881599@www.femixsports.fr
SUMMARY:Formation (Modules 1 et 2) - Comité Départemental de Tennis de Haute Savoie
DESCRIPTION:La formation « Osez s’engager » contient trois modules de formations proposés à des dirigeant•es qui souhaitent prendre plus de responsabilités en tant qu’élu•e et à des femmes qui veulent s’engager professionnellement dans les métiers liés au sport.
URL:https://www.femixsports.fr/event/formation-modules-1-et-2-comite-departemental-de-tennis-de-haute-savoie/
LOCATION:Comité Départemental de tennis de Haute Savoie\, 101\, rue de l'Egalité\, La Roche sur Foron\, 74800\, France
CATEGORIES:Formation
ATTACH;FMTTYPE=image/png:https://www.femixsports.fr/wp-content/uploads/2023/12/bannieres-site-web-3.png
ORGANIZER;CN="Comit%C3%A9 D%C3%A9partemental de tennis de Haute Savoie":MAILTO:comite.haute-savoie@fft.fr
END:VEVENT
END:VCALENDAR